BEGIN:VCALENDAR
VERSION:2.0
PRODID:-//New Hampshire Film Festival - ECPv6.1.2.2//NONSGML v1.0//EN
CALSCALE:GREGORIAN
METHOD:PUBLISH
X-ORIGINAL-URL:https://nhfilmfestival.com
X-WR-CALDESC:Events for New Hampshire Film Festival
REFRESH-INTERVAL;VALUE=DURATION:PT1H
X-Robots-Tag:noindex
X-PUBLISHED-TTL:PT1H
BEGIN:VTIMEZONE
TZID:America/New_York
BEGIN:DAYLIGHT
TZOFFSETFROM:-0500
TZOFFSETTO:-0400
TZNAME:EDT
DTSTART:20250309T070000
END:DAYLIGHT
BEGIN:STANDARD
TZOFFSETFROM:-0400
TZOFFSETTO:-0500
TZNAME:EST
DTSTART:20251102T060000
END:STANDARD
END:VTIMEZONE
BEGIN:VEVENT
DTSTART;TZID=America/New_York:20251017T155000
DTEND;TZID=America/New_York:20251017T172500
DTSTAMP:20260419T081808
CREATED:20250915T150954Z
LAST-MODIFIED:20251014T191334Z
UID:10001477-1760716200-1760721900@nhfilmfestival.com
SUMMARY:Last Call in the North
DESCRIPTION:
URL:https://nhfilmfestival.com/event/last-call-in-the-north-2/
LOCATION:Novocure\, 180 Hanover St.\, Portsmouth\, NH\, 03801\, United States
CATEGORIES:Film
ATTACH;FMTTYPE=image/jpeg:https://nhfilmfestival.com/wp-content/uploads/2025/08/LCITN_Still_Downtown-Skagway.jpg
END:VEVENT
BEGIN:VEVENT
DTSTART;TZID=America/New_York:20251017T175000
DTEND;TZID=America/New_York:20251017T190500
DTSTAMP:20260419T081808
CREATED:20250915T150908Z
LAST-MODIFIED:20251014T191608Z
UID:10001476-1760723400-1760727900@nhfilmfestival.com
SUMMARY:Honeyjoon
DESCRIPTION:
URL:https://nhfilmfestival.com/event/honeyjoon-2/
LOCATION:Novocure\, 180 Hanover St.\, Portsmouth\, NH\, 03801\, United States
CATEGORIES:Film
ATTACH;FMTTYPE=image/jpeg:https://nhfilmfestival.com/wp-content/uploads/2025/08/HJ-previous-still1-scaled.jpg
END:VEVENT
BEGIN:VEVENT
DTSTART;TZID=America/New_York:20251017T200000
DTEND;TZID=America/New_York:20251017T212000
DTSTAMP:20260419T081808
CREATED:20250915T150625Z
LAST-MODIFIED:20251016T173035Z
UID:10001478-1760731200-1760736000@nhfilmfestival.com
SUMMARY:Best Boy
DESCRIPTION:
URL:https://nhfilmfestival.com/event/best-boy/
LOCATION:Novocure\, 180 Hanover St.\, Portsmouth\, NH\, 03801\, United States
CATEGORIES:Film
ATTACH;FMTTYPE=image/jpeg:https://nhfilmfestival.com/wp-content/uploads/2025/08/bestboy_r1_srgb.00881941.jpg
END:VEVENT
BEGIN:VEVENT
DTSTART;TZID=America/New_York:20251018T100000
DTEND;TZID=America/New_York:20251018T113500
DTSTAMP:20260419T081808
CREATED:20250915T150728Z
LAST-MODIFIED:20251014T191337Z
UID:10001498-1760781600-1760787300@nhfilmfestival.com
SUMMARY:Last Call in the North
DESCRIPTION:
URL:https://nhfilmfestival.com/event/last-call-in-the-north/
LOCATION:Novocure\, 180 Hanover St.\, Portsmouth\, NH\, 03801\, United States
CATEGORIES:Film
ATTACH;FMTTYPE=image/jpeg:https://nhfilmfestival.com/wp-content/uploads/2025/08/LCITN_Still_Downtown-Skagway.jpg
END:VEVENT
BEGIN:VEVENT
DTSTART;TZID=America/New_York:20251018T120000
DTEND;TZID=America/New_York:20251018T133000
DTSTAMP:20260419T081808
CREATED:20250915T150728Z
LAST-MODIFIED:20251014T190533Z
UID:10001499-1760788800-1760794200@nhfilmfestival.com
SUMMARY:The Scout
DESCRIPTION:
URL:https://nhfilmfestival.com/event/the-scout-2/
LOCATION:Novocure\, 180 Hanover St.\, Portsmouth\, NH\, 03801\, United States
CATEGORIES:Film
ATTACH;FMTTYPE=image/jpeg:https://nhfilmfestival.com/wp-content/uploads/2025/08/MIMI-DAVILA-as-SOFIA-in-THE-SCOUT-directed-by-Paula-Gonzalez-Nasser1-scaled.jpg
END:VEVENT
BEGIN:VEVENT
DTSTART;TZID=America/New_York:20251018T135500
DTEND;TZID=America/New_York:20251018T153000
DTSTAMP:20260419T081808
CREATED:20250915T150728Z
LAST-MODIFIED:20251016T172738Z
UID:10001500-1760795700-1760801400@nhfilmfestival.com
SUMMARY:Deepfaking Sam Altman
DESCRIPTION:
URL:https://nhfilmfestival.com/event/deepfaking-sam-altman-2/
LOCATION:Novocure\, 180 Hanover St.\, Portsmouth\, NH\, 03801\, United States
CATEGORIES:Film
ATTACH;FMTTYPE=image/jpeg:https://nhfilmfestival.com/wp-content/uploads/2025/08/rvqqkZbyYynp73p02vMps0gqIaKFjbYMG5MFkd5bJys.jpg
END:VEVENT
BEGIN:VEVENT
DTSTART;TZID=America/New_York:20251018T160000
DTEND;TZID=America/New_York:20251018T172000
DTSTAMP:20260419T081808
CREATED:20250915T150728Z
LAST-MODIFIED:20251016T172504Z
UID:10001501-1760803200-1760808000@nhfilmfestival.com
SUMMARY:On a String
DESCRIPTION:
URL:https://nhfilmfestival.com/event/on-a-string/
LOCATION:Novocure\, 180 Hanover St.\, Portsmouth\, NH\, 03801\, United States
CATEGORIES:Film
ATTACH;FMTTYPE=image/jpeg:https://nhfilmfestival.com/wp-content/uploads/2025/08/MV5BNzgwZDgzMWMtZThkOS00NzcxLWFhYzctYzA0ZTNjNGY4N2VkXkEyXkFqcGc@._V11.jpg
END:VEVENT
BEGIN:VEVENT
DTSTART;TZID=America/New_York:20251018T175000
DTEND;TZID=America/New_York:20251018T192000
DTSTAMP:20260419T081808
CREATED:20250915T150728Z
LAST-MODIFIED:20251016T172407Z
UID:10001502-1760809800-1760815200@nhfilmfestival.com
SUMMARY:The Only Way Out Is Through
DESCRIPTION:
URL:https://nhfilmfestival.com/event/the-only-way-out-is-through/
LOCATION:Novocure\, 180 Hanover St.\, Portsmouth\, NH\, 03801\, United States
CATEGORIES:Film
ATTACH;FMTTYPE=image/jpeg:https://nhfilmfestival.com/wp-content/uploads/2025/09/The-Only-Way-Out-is-Through.jpg
END:VEVENT
BEGIN:VEVENT
DTSTART;TZID=America/New_York:20251018T200000
DTEND;TZID=America/New_York:20251018T213000
DTSTAMP:20260419T081808
CREATED:20250915T150728Z
LAST-MODIFIED:20251016T172315Z
UID:10001503-1760817600-1760823000@nhfilmfestival.com
SUMMARY:The Travel Companion
DESCRIPTION:
URL:https://nhfilmfestival.com/event/the-travel-companion/
LOCATION:Novocure\, 180 Hanover St.\, Portsmouth\, NH\, 03801\, United States
CATEGORIES:Film
ATTACH;FMTTYPE=image/jpeg:https://nhfilmfestival.com/wp-content/uploads/2025/10/The-Travel-Companion.jpg
END:VEVENT
BEGIN:VEVENT
DTSTART;TZID=America/New_York:20251019T100000
DTEND;TZID=America/New_York:20251019T113500
DTSTAMP:20260419T081808
CREATED:20250915T150752Z
LAST-MODIFIED:20251016T172233Z
UID:10001529-1760868000-1760873700@nhfilmfestival.com
SUMMARY:Creede U.S.A.
DESCRIPTION:
URL:https://nhfilmfestival.com/event/creede-u-s-a-2/
LOCATION:Novocure\, 180 Hanover St.\, Portsmouth\, NH\, 03801\, United States
CATEGORIES:Film
ATTACH;FMTTYPE=image/jpeg:https://nhfilmfestival.com/wp-content/uploads/2025/09/MV5BZTY0MTM5ZWEtZjAwYy00MTZjLThkNWItYzM1NmNhOTFjMTk3XkEyXkFqcGc@._V11-scaled.jpg
END:VEVENT
BEGIN:VEVENT
DTSTART;TZID=America/New_York:20251019T120000
DTEND;TZID=America/New_York:20251019T133000
DTSTAMP:20260419T081808
CREATED:20250915T150752Z
LAST-MODIFIED:20251016T172135Z
UID:10001530-1760875200-1760880600@nhfilmfestival.com
SUMMARY:Our Hero\, Balthazar
DESCRIPTION:
URL:https://nhfilmfestival.com/event/our-hero-balthazar-2/
LOCATION:Novocure\, 180 Hanover St.\, Portsmouth\, NH\, 03801\, United States
CATEGORIES:Film
ATTACH;FMTTYPE=image/jpeg:https://nhfilmfestival.com/wp-content/uploads/2025/10/Our-Hero-Balthazar.jpg
END:VEVENT
BEGIN:VEVENT
DTSTART;TZID=America/New_York:20251019T140000
DTEND;TZID=America/New_York:20251019T155500
DTSTAMP:20260419T081808
CREATED:20250911T211919Z
LAST-MODIFIED:20251016T172012Z
UID:10001531-1760882400-1760889300@nhfilmfestival.com
SUMMARY:Middletown
DESCRIPTION:
URL:https://nhfilmfestival.com/event/middletown/
LOCATION:Novocure\, 180 Hanover St.\, Portsmouth\, NH\, 03801\, United States
CATEGORIES:Film
ATTACH;FMTTYPE=image/jpeg:https://nhfilmfestival.com/wp-content/uploads/2025/08/MIDDLETOWN_STILL_01_1920x10801.jpg
END:VEVENT
BEGIN:VEVENT
DTSTART;TZID=America/New_York:20251019T162000
DTEND;TZID=America/New_York:20251019T175500
DTSTAMP:20260419T081808
CREATED:20250915T150752Z
LAST-MODIFIED:20251014T191149Z
UID:10001532-1760890800-1760896500@nhfilmfestival.com
SUMMARY:Westhampton
DESCRIPTION:
URL:https://nhfilmfestival.com/event/westhampton-2/
LOCATION:Novocure\, 180 Hanover St.\, Portsmouth\, NH\, 03801\, United States
CATEGORIES:Film
ATTACH;FMTTYPE=image/jpeg:https://nhfilmfestival.com/wp-content/uploads/2025/08/WESTHAMPTON_TXE_1-scaled1.jpg
END:VEVENT
BEGIN:VEVENT
DTSTART;TZID=America/New_York:20251019T182000
DTEND;TZID=America/New_York:20251019T195000
DTSTAMP:20260419T081808
CREATED:20250915T150908Z
LAST-MODIFIED:20251014T191237Z
UID:10001533-1760898000-1760903400@nhfilmfestival.com
SUMMARY:Natchez
DESCRIPTION:
URL:https://nhfilmfestival.com/event/natchez-2/
LOCATION:Novocure\, 180 Hanover St.\, Portsmouth\, NH\, 03801\, United States
CATEGORIES:Film
ATTACH;FMTTYPE=image/jpeg:https://nhfilmfestival.com/wp-content/uploads/2025/09/Photo-6-Screen_Shot_2022-10-19_at_11.10.00_AM1.jpg
END:VEVENT
END:VCALENDAR